BEGIN:VCALENDAR
VERSION:2.0
PRODID:-//WhenKickoff//Match Reminder//EN
BEGIN:VEVENT
UID:wk-537153-15@whenkickoff.com
DTSTAMP:20260419T234142Z
DTSTART:20260425T130000Z
DTEND:20260425T150000Z
SUMMARY:Parma Calcio 1913 vs AC Pisa 1909
DESCRIPTION:WhenKickoff reminder for Parma Calcio 1913 vs AC Pisa 1909
URL:https://whenkickoff.com/en/match/parma-calcio-1913-vs-ac-pisa-1909-537153/
BEGIN:VALARM
TRIGGER:-PT15M
ACTION:DISPLAY
DESCRIPTION:Match starts soon
END:VALARM
END:VEVENT
END:VCALENDAR
