BEGIN:VCALENDAR
VERSION:2.0
PRODID:-//WhenKickoff//Match Reminder//EN
BEGIN:VEVENT
UID:wk-537150-15@whenkickoff.com
DTSTAMP:20260419T220019Z
DTSTART:20260426T160000Z
DTEND:20260426T180000Z
SUMMARY:Torino FC vs FC Internazionale Milano
DESCRIPTION:WhenKickoff reminder for Torino FC vs FC Internazionale Milano
URL:https://whenkickoff.com/en/match/torino-fc-vs-fc-internazionale-milano-537150/
BEGIN:VALARM
TRIGGER:-PT15M
ACTION:DISPLAY
DESCRIPTION:Match starts soon
END:VALARM
END:VEVENT
END:VCALENDAR
