BEGIN:VCALENDAR
VERSION:2.0
PRODID:-//WhenKickoff//Match Reminder//EN
BEGIN:VEVENT
UID:wk-537149-15@whenkickoff.com
DTSTAMP:20260419T234142Z
DTSTART:20260425T160000Z
DTEND:20260425T180000Z
SUMMARY:Bologna FC 1909 vs AS Roma
DESCRIPTION:WhenKickoff reminder for Bologna FC 1909 vs AS Roma
URL:https://whenkickoff.com/en/match/bologna-fc-1909-vs-as-roma-537149/
BEGIN:VALARM
TRIGGER:-PT15M
ACTION:DISPLAY
DESCRIPTION:Match starts soon
END:VALARM
END:VEVENT
END:VCALENDAR
