BEGIN:VCALENDAR
VERSION:2.0
PRODID:-//WhenKickoff//Match Reminder//EN
BEGIN:VEVENT
UID:wk-537121-15@whenkickoff.com
DTSTAMP:20260419T183742Z
DTSTART:20260406T184500Z
DTEND:20260406T204500Z
SUMMARY:SSC Napoli vs AC Milan
DESCRIPTION:WhenKickoff reminder for SSC Napoli vs AC Milan
URL:https://whenkickoff.com/en/match/ssc-napoli-vs-ac-milan-537121/
BEGIN:VALARM
TRIGGER:-PT15M
ACTION:DISPLAY
DESCRIPTION:Match starts soon
END:VALARM
END:VEVENT
END:VCALENDAR
