BEGIN:VCALENDAR
VERSION:2.0
PRODID:-//WhenKickoff//Match Reminder//EN
BEGIN:VEVENT
UID:wk-537119-15@whenkickoff.com
DTSTAMP:20260419T203524Z
DTSTART:20260405T160000Z
DTEND:20260405T180000Z
SUMMARY:AC Pisa 1909 vs Torino FC
DESCRIPTION:WhenKickoff reminder for AC Pisa 1909 vs Torino FC
URL:https://whenkickoff.com/en/match/ac-pisa-1909-vs-torino-fc-537119/
BEGIN:VALARM
TRIGGER:-PT15M
ACTION:DISPLAY
DESCRIPTION:Match starts soon
END:VALARM
END:VEVENT
END:VCALENDAR
