BEGIN:VCALENDAR
VERSION:2.0
PRODID:-//WhenKickoff//Match Reminder//EN
BEGIN:VEVENT
UID:wk-537116-15@whenkickoff.com
DTSTAMP:20260420T001716Z
DTSTART:20260405T184500Z
DTEND:20260405T204500Z
SUMMARY:FC Internazionale Milano vs AS Roma
DESCRIPTION:WhenKickoff reminder for FC Internazionale Milano vs AS Roma
URL:https://whenkickoff.com/en/match/fc-internazionale-milano-vs-as-roma-537116/
BEGIN:VALARM
TRIGGER:-PT15M
ACTION:DISPLAY
DESCRIPTION:Match starts soon
END:VALARM
END:VEVENT
END:VCALENDAR
