BEGIN:VCALENDAR
VERSION:2.0
PRODID:-//WhenKickoff//Match Reminder//EN
BEGIN:VEVENT
UID:wk-537110-15@whenkickoff.com
DTSTAMP:20260419T152628Z
DTSTART:20260320T194500Z
DTEND:20260320T214500Z
SUMMARY:Genoa CFC vs Udinese Calcio
DESCRIPTION:WhenKickoff reminder for Genoa CFC vs Udinese Calcio
URL:https://whenkickoff.com/en/match/genoa-cfc-vs-udinese-calcio-537110/
BEGIN:VALARM
TRIGGER:-PT15M
ACTION:DISPLAY
DESCRIPTION:Match starts soon
END:VALARM
END:VEVENT
END:VCALENDAR
