BEGIN:VCALENDAR
VERSION:2.0
PRODID:-//WhenKickoff//Match Reminder//EN
BEGIN:VEVENT
UID:wk-537108-15@whenkickoff.com
DTSTAMP:20260419T220105Z
DTSTART:20260322T140000Z
DTEND:20260322T160000Z
SUMMARY:Atalanta BC vs Hellas Verona FC
DESCRIPTION:WhenKickoff reminder for Atalanta BC vs Hellas Verona FC
URL:https://whenkickoff.com/en/match/atalanta-bc-vs-hellas-verona-fc-537108/
BEGIN:VALARM
TRIGGER:-PT15M
ACTION:DISPLAY
DESCRIPTION:Match starts soon
END:VALARM
END:VEVENT
END:VCALENDAR
