BEGIN:VCALENDAR
VERSION:2.0
PRODID:-//WhenKickoff//Match Reminder//EN
BEGIN:VEVENT
UID:wk-537107-15@whenkickoff.com
DTSTAMP:20260420T005642Z
DTSTART:20260322T170000Z
DTEND:20260322T190000Z
SUMMARY:AS Roma vs US Lecce
DESCRIPTION:WhenKickoff reminder for AS Roma vs US Lecce
URL:https://whenkickoff.com/en/match/as-roma-vs-us-lecce-537107/
BEGIN:VALARM
TRIGGER:-PT15M
ACTION:DISPLAY
DESCRIPTION:Match starts soon
END:VALARM
END:VEVENT
END:VCALENDAR
