BEGIN:VCALENDAR
VERSION:2.0
PRODID:-//WhenKickoff//Match Reminder//EN
BEGIN:VEVENT
UID:wk-537106-15@whenkickoff.com
DTSTAMP:20260419T135921Z
DTSTART:20260321T170000Z
DTEND:20260321T190000Z
SUMMARY:AC Milan vs Torino FC
DESCRIPTION:WhenKickoff reminder for AC Milan vs Torino FC
URL:https://whenkickoff.com/en/match/ac-milan-vs-torino-fc-537106/
BEGIN:VALARM
TRIGGER:-PT15M
ACTION:DISPLAY
DESCRIPTION:Match starts soon
END:VALARM
END:VEVENT
END:VCALENDAR
