BEGIN:VCALENDAR
VERSION:2.0
PRODID:-//WhenKickoff//Match Reminder//EN
BEGIN:VEVENT
UID:wk-537091-15@whenkickoff.com
DTSTAMP:20260419T222432Z
DTSTART:20260307T194500Z
DTEND:20260307T214500Z
SUMMARY:Juventus FC vs AC Pisa 1909
DESCRIPTION:WhenKickoff reminder for Juventus FC vs AC Pisa 1909
URL:https://whenkickoff.com/en/match/juventus-fc-vs-ac-pisa-1909-537091/
BEGIN:VALARM
TRIGGER:-PT15M
ACTION:DISPLAY
DESCRIPTION:Match starts soon
END:VALARM
END:VEVENT
END:VCALENDAR
