BEGIN:VCALENDAR
VERSION:2.0
PRODID:-//WhenKickoff//Match Reminder//EN
BEGIN:VEVENT
UID:wk-537090-15@whenkickoff.com
DTSTAMP:20260419T234147Z
DTSTART:20260308T140000Z
DTEND:20260308T160000Z
SUMMARY:Bologna FC 1909 vs Hellas Verona FC
DESCRIPTION:WhenKickoff reminder for Bologna FC 1909 vs Hellas Verona FC
URL:https://whenkickoff.com/en/match/bologna-fc-1909-vs-hellas-verona-fc-537090/
BEGIN:VALARM
TRIGGER:-PT15M
ACTION:DISPLAY
DESCRIPTION:Match starts soon
END:VALARM
END:VEVENT
END:VCALENDAR
