BEGIN:VCALENDAR
VERSION:2.0
PRODID:-//WhenKickoff//Match Reminder//EN
BEGIN:VEVENT
UID:wk-537088-15@whenkickoff.com
DTSTAMP:20260419T215120Z
DTSTART:20260307T140000Z
DTEND:20260307T160000Z
SUMMARY:Cagliari Calcio vs Como 1907
DESCRIPTION:WhenKickoff reminder for Cagliari Calcio vs Como 1907
URL:https://whenkickoff.com/en/match/cagliari-calcio-vs-como-1907-537088/
BEGIN:VALARM
TRIGGER:-PT15M
ACTION:DISPLAY
DESCRIPTION:Match starts soon
END:VALARM
END:VEVENT
END:VCALENDAR
