BEGIN:VCALENDAR
VERSION:2.0
PRODID:-//WhenKickoff//Match Reminder//EN
BEGIN:VEVENT
UID:wk-537082-15@whenkickoff.com
DTSTAMP:20260420T005706Z
DTSTART:20260301T140000Z
DTEND:20260301T160000Z
SUMMARY:US Sassuolo Calcio vs Atalanta BC
DESCRIPTION:WhenKickoff reminder for US Sassuolo Calcio vs Atalanta BC
URL:https://whenkickoff.com/en/match/us-sassuolo-calcio-vs-atalanta-bc-537082/
BEGIN:VALARM
TRIGGER:-PT15M
ACTION:DISPLAY
DESCRIPTION:Match starts soon
END:VALARM
END:VEVENT
END:VCALENDAR
