BEGIN:VCALENDAR
VERSION:2.0
PRODID:-//WhenKickoff//Match Reminder//EN
BEGIN:VEVENT
UID:wk-537081-15@whenkickoff.com
DTSTAMP:20260419T222607Z
DTSTART:20260302T173000Z
DTEND:20260302T193000Z
SUMMARY:AC Pisa 1909 vs Bologna FC 1909
DESCRIPTION:WhenKickoff reminder for AC Pisa 1909 vs Bologna FC 1909
URL:https://whenkickoff.com/en/match/ac-pisa-1909-vs-bologna-fc-1909-537081/
BEGIN:VALARM
TRIGGER:-PT15M
ACTION:DISPLAY
DESCRIPTION:Match starts soon
END:VALARM
END:VEVENT
END:VCALENDAR
