BEGIN:VCALENDAR
VERSION:2.0
PRODID:-//WhenKickoff//Match Reminder//EN
BEGIN:VEVENT
UID:wk-537080-15@whenkickoff.com
DTSTAMP:20260419T192316Z
DTSTART:20260227T194500Z
DTEND:20260227T214500Z
SUMMARY:Parma Calcio 1913 vs Cagliari Calcio
DESCRIPTION:WhenKickoff reminder for Parma Calcio 1913 vs Cagliari Calcio
URL:https://whenkickoff.com/en/match/parma-calcio-1913-vs-cagliari-calcio-537080/
BEGIN:VALARM
TRIGGER:-PT15M
ACTION:DISPLAY
DESCRIPTION:Match starts soon
END:VALARM
END:VEVENT
END:VCALENDAR
