BEGIN:VCALENDAR
VERSION:2.0
PRODID:-//WhenKickoff//Match Reminder//EN
BEGIN:VEVENT
UID:wk-537079-15@whenkickoff.com
DTSTAMP:20260419T211242Z
DTSTART:20260228T194500Z
DTEND:20260228T214500Z
SUMMARY:FC Internazionale Milano vs Genoa CFC
DESCRIPTION:WhenKickoff reminder for FC Internazionale Milano vs Genoa CFC
URL:https://whenkickoff.com/en/match/fc-internazionale-milano-vs-genoa-cfc-537079/
BEGIN:VALARM
TRIGGER:-PT15M
ACTION:DISPLAY
DESCRIPTION:Match starts soon
END:VALARM
END:VEVENT
END:VCALENDAR
