BEGIN:VCALENDAR
VERSION:2.0
PRODID:-//WhenKickoff//Match Reminder//EN
BEGIN:VEVENT
UID:wk-537078-15@whenkickoff.com
DTSTAMP:20260420T005705Z
DTSTART:20260228T170000Z
DTEND:20260228T190000Z
SUMMARY:Hellas Verona FC vs SSC Napoli
DESCRIPTION:WhenKickoff reminder for Hellas Verona FC vs SSC Napoli
URL:https://whenkickoff.com/en/match/hellas-verona-fc-vs-ssc-napoli-537078/
BEGIN:VALARM
TRIGGER:-PT15M
ACTION:DISPLAY
DESCRIPTION:Match starts soon
END:VALARM
END:VEVENT
END:VCALENDAR
