BEGIN:VCALENDAR
VERSION:2.0
PRODID:-//WhenKickoff//Match Reminder//EN
BEGIN:VEVENT
UID:wk-537076-15@whenkickoff.com
DTSTAMP:20260419T211243Z
DTSTART:20260228T140000Z
DTEND:20260228T160000Z
SUMMARY:Como 1907 vs US Lecce
DESCRIPTION:WhenKickoff reminder for Como 1907 vs US Lecce
URL:https://whenkickoff.com/en/match/como-1907-vs-us-lecce-537076/
BEGIN:VALARM
TRIGGER:-PT15M
ACTION:DISPLAY
DESCRIPTION:Match starts soon
END:VALARM
END:VEVENT
END:VCALENDAR
