BEGIN:VCALENDAR
VERSION:2.0
PRODID:-//WhenKickoff//Match Reminder//EN
BEGIN:VEVENT
UID:wk-537075-15@whenkickoff.com
DTSTAMP:20260419T222431Z
DTSTART:20260301T194500Z
DTEND:20260301T214500Z
SUMMARY:AS Roma vs Juventus FC
DESCRIPTION:WhenKickoff reminder for AS Roma vs Juventus FC
URL:https://whenkickoff.com/en/match/as-roma-vs-juventus-fc-537075/
BEGIN:VALARM
TRIGGER:-PT15M
ACTION:DISPLAY
DESCRIPTION:Match starts soon
END:VALARM
END:VEVENT
END:VCALENDAR
