BEGIN:VCALENDAR
VERSION:2.0
PRODID:-//WhenKickoff//Match Reminder//EN
BEGIN:VEVENT
UID:wk-537074-15@whenkickoff.com
DTSTAMP:20260420T005643Z
DTSTART:20260221T170000Z
DTEND:20260221T190000Z
SUMMARY:US Lecce vs FC Internazionale Milano
DESCRIPTION:WhenKickoff reminder for US Lecce vs FC Internazionale Milano
URL:https://whenkickoff.com/en/match/us-lecce-vs-fc-internazionale-milano-537074/
BEGIN:VALARM
TRIGGER:-PT15M
ACTION:DISPLAY
DESCRIPTION:Match starts soon
END:VALARM
END:VEVENT
END:VCALENDAR
