BEGIN:VCALENDAR
VERSION:2.0
PRODID:-//WhenKickoff//Match Reminder//EN
BEGIN:VEVENT
UID:wk-537073-15@whenkickoff.com
DTSTAMP:20260420T005635Z
DTSTART:20260220T194500Z
DTEND:20260220T214500Z
SUMMARY:US Sassuolo Calcio vs Hellas Verona FC
DESCRIPTION:WhenKickoff reminder for US Sassuolo Calcio vs Hellas Verona FC
URL:https://whenkickoff.com/en/match/us-sassuolo-calcio-vs-hellas-verona-fc-537073/
BEGIN:VALARM
TRIGGER:-PT15M
ACTION:DISPLAY
DESCRIPTION:Match starts soon
END:VALARM
END:VEVENT
END:VCALENDAR
