BEGIN:VCALENDAR
VERSION:2.0
PRODID:-//WhenKickoff//Match Reminder//EN
BEGIN:VEVENT
UID:wk-537072-15@whenkickoff.com
DTSTAMP:20260420T005644Z
DTSTART:20260221T140000Z
DTEND:20260221T160000Z
SUMMARY:Juventus FC vs Como 1907
DESCRIPTION:WhenKickoff reminder for Juventus FC vs Como 1907
URL:https://whenkickoff.com/en/match/juventus-fc-vs-como-1907-537072/
BEGIN:VALARM
TRIGGER:-PT15M
ACTION:DISPLAY
DESCRIPTION:Match starts soon
END:VALARM
END:VEVENT
END:VCALENDAR
