BEGIN:VCALENDAR
VERSION:2.0
PRODID:-//WhenKickoff//Match Reminder//EN
BEGIN:VEVENT
UID:wk-537071-15@whenkickoff.com
DTSTAMP:20260419T231157Z
DTSTART:20260223T194500Z
DTEND:20260223T214500Z
SUMMARY:Bologna FC 1909 vs Udinese Calcio
DESCRIPTION:WhenKickoff reminder for Bologna FC 1909 vs Udinese Calcio
URL:https://whenkickoff.com/en/match/bologna-fc-1909-vs-udinese-calcio-537071/
BEGIN:VALARM
TRIGGER:-PT15M
ACTION:DISPLAY
DESCRIPTION:Match starts soon
END:VALARM
END:VEVENT
END:VCALENDAR
