BEGIN:VCALENDAR
VERSION:2.0
PRODID:-//WhenKickoff//Match Reminder//EN
BEGIN:VEVENT
UID:wk-537070-15@whenkickoff.com
DTSTAMP:20260420T005706Z
DTSTART:20260222T113000Z
DTEND:20260222T133000Z
SUMMARY:Genoa CFC vs Torino FC
DESCRIPTION:WhenKickoff reminder for Genoa CFC vs Torino FC
URL:https://whenkickoff.com/en/match/genoa-cfc-vs-torino-fc-537070/
BEGIN:VALARM
TRIGGER:-PT15M
ACTION:DISPLAY
DESCRIPTION:Match starts soon
END:VALARM
END:VEVENT
END:VCALENDAR
