BEGIN:VCALENDAR
VERSION:2.0
PRODID:-//WhenKickoff//Match Reminder//EN
BEGIN:VEVENT
UID:wk-537069-15@whenkickoff.com
DTSTAMP:20260420T005644Z
DTSTART:20260221T194500Z
DTEND:20260221T214500Z
SUMMARY:Cagliari Calcio vs SS Lazio
DESCRIPTION:WhenKickoff reminder for Cagliari Calcio vs SS Lazio
URL:https://whenkickoff.com/en/match/cagliari-calcio-vs-ss-lazio-537069/
BEGIN:VALARM
TRIGGER:-PT15M
ACTION:DISPLAY
DESCRIPTION:Match starts soon
END:VALARM
END:VEVENT
END:VCALENDAR
