BEGIN:VCALENDAR
VERSION:2.0
PRODID:-//WhenKickoff//Match Reminder//EN
BEGIN:VEVENT
UID:wk-537068-15@whenkickoff.com
DTSTAMP:20260420T005642Z
DTSTART:20260222T140000Z
DTEND:20260222T160000Z
SUMMARY:Atalanta BC vs SSC Napoli
DESCRIPTION:WhenKickoff reminder for Atalanta BC vs SSC Napoli
URL:https://whenkickoff.com/en/match/atalanta-bc-vs-ssc-napoli-537068/
BEGIN:VALARM
TRIGGER:-PT15M
ACTION:DISPLAY
DESCRIPTION:Match starts soon
END:VALARM
END:VEVENT
END:VCALENDAR
