BEGIN:VCALENDAR
VERSION:2.0
PRODID:-//WhenKickoff//Match Reminder//EN
BEGIN:VEVENT
UID:wk-537066-15@whenkickoff.com
DTSTAMP:20260420T005636Z
DTSTART:20260222T170000Z
DTEND:20260222T190000Z
SUMMARY:AC Milan vs Parma Calcio 1913
DESCRIPTION:WhenKickoff reminder for AC Milan vs Parma Calcio 1913
URL:https://whenkickoff.com/en/match/ac-milan-vs-parma-calcio-1913-537066/
BEGIN:VALARM
TRIGGER:-PT15M
ACTION:DISPLAY
DESCRIPTION:Match starts soon
END:VALARM
END:VEVENT
END:VCALENDAR
