BEGIN:VCALENDAR
VERSION:2.0
PRODID:-//WhenKickoff//Match Reminder//EN
BEGIN:VEVENT
UID:wk-537065-15@whenkickoff.com
DTSTAMP:20260419T211242Z
DTSTART:20260223T173000Z
DTEND:20260223T193000Z
SUMMARY:ACF Fiorentina vs AC Pisa 1909
DESCRIPTION:WhenKickoff reminder for ACF Fiorentina vs AC Pisa 1909
URL:https://whenkickoff.com/en/match/acf-fiorentina-vs-ac-pisa-1909-537065/
BEGIN:VALARM
TRIGGER:-PT15M
ACTION:DISPLAY
DESCRIPTION:Match starts soon
END:VALARM
END:VEVENT
END:VCALENDAR
