BEGIN:VCALENDAR
VERSION:2.0
PRODID:-//WhenKickoff//Match Reminder//EN
BEGIN:VEVENT
UID:wk-537064-15@whenkickoff.com
DTSTAMP:20260420T015322Z
DTSTART:20260215T140000Z
DTEND:20260215T160000Z
SUMMARY:US Cremonese vs Genoa CFC
DESCRIPTION:WhenKickoff reminder for US Cremonese vs Genoa CFC
URL:https://whenkickoff.com/en/match/us-cremonese-vs-genoa-cfc-537064/
BEGIN:VALARM
TRIGGER:-PT15M
ACTION:DISPLAY
DESCRIPTION:Match starts soon
END:VALARM
END:VEVENT
END:VCALENDAR
