BEGIN:VCALENDAR
VERSION:2.0
PRODID:-//WhenKickoff//Match Reminder//EN
BEGIN:VEVENT
UID:wk-537063-15@whenkickoff.com
DTSTAMP:20260420T020321Z
DTSTART:20260215T113000Z
DTEND:20260215T133000Z
SUMMARY:Udinese Calcio vs US Sassuolo Calcio
DESCRIPTION:WhenKickoff reminder for Udinese Calcio vs US Sassuolo Calcio
URL:https://whenkickoff.com/en/match/udinese-calcio-vs-us-sassuolo-calcio-537063/
BEGIN:VALARM
TRIGGER:-PT15M
ACTION:DISPLAY
DESCRIPTION:Match starts soon
END:VALARM
END:VEVENT
END:VCALENDAR
