BEGIN:VCALENDAR
VERSION:2.0
PRODID:-//WhenKickoff//Match Reminder//EN
BEGIN:VEVENT
UID:wk-537062-15@whenkickoff.com
DTSTAMP:20260420T020330Z
DTSTART:20260215T194500Z
DTEND:20260215T214500Z
SUMMARY:SSC Napoli vs AS Roma
DESCRIPTION:WhenKickoff reminder for SSC Napoli vs AS Roma
URL:https://whenkickoff.com/en/match/ssc-napoli-vs-as-roma-537062/
BEGIN:VALARM
TRIGGER:-PT15M
ACTION:DISPLAY
DESCRIPTION:Match starts soon
END:VALARM
END:VEVENT
END:VCALENDAR
