BEGIN:VCALENDAR
VERSION:2.0
PRODID:-//WhenKickoff//Match Reminder//EN
BEGIN:VEVENT
UID:wk-537061-15@whenkickoff.com
DTSTAMP:20260420T033734Z
DTSTART:20260213T194500Z
DTEND:20260213T214500Z
SUMMARY:AC Pisa 1909 vs AC Milan
DESCRIPTION:WhenKickoff reminder for AC Pisa 1909 vs AC Milan
URL:https://whenkickoff.com/en/match/ac-pisa-1909-vs-ac-milan-537061/
BEGIN:VALARM
TRIGGER:-PT15M
ACTION:DISPLAY
DESCRIPTION:Match starts soon
END:VALARM
END:VEVENT
END:VCALENDAR
