BEGIN:VCALENDAR
VERSION:2.0
PRODID:-//WhenKickoff//Match Reminder//EN
BEGIN:VEVENT
UID:wk-537060-15@whenkickoff.com
DTSTAMP:20260420T020330Z
DTSTART:20260215T140000Z
DTEND:20260215T160000Z
SUMMARY:Parma Calcio 1913 vs Hellas Verona FC
DESCRIPTION:WhenKickoff reminder for Parma Calcio 1913 vs Hellas Verona FC
URL:https://whenkickoff.com/en/match/parma-calcio-1913-vs-hellas-verona-fc-537060/
BEGIN:VALARM
TRIGGER:-PT15M
ACTION:DISPLAY
DESCRIPTION:Match starts soon
END:VALARM
END:VEVENT
END:VCALENDAR
