BEGIN:VCALENDAR
VERSION:2.0
PRODID:-//WhenKickoff//Match Reminder//EN
BEGIN:VEVENT
UID:wk-537059-15@whenkickoff.com
DTSTAMP:20260420T033735Z
DTSTART:20260214T170000Z
DTEND:20260214T190000Z
SUMMARY:SS Lazio vs Atalanta BC
DESCRIPTION:WhenKickoff reminder for SS Lazio vs Atalanta BC
URL:https://whenkickoff.com/en/match/ss-lazio-vs-atalanta-bc-537059/
BEGIN:VALARM
TRIGGER:-PT15M
ACTION:DISPLAY
DESCRIPTION:Match starts soon
END:VALARM
END:VEVENT
END:VCALENDAR
