BEGIN:VCALENDAR
VERSION:2.0
PRODID:-//WhenKickoff//Match Reminder//EN
BEGIN:VEVENT
UID:wk-537058-15@whenkickoff.com
DTSTAMP:20260420T035215Z
DTSTART:20260214T194500Z
DTEND:20260214T214500Z
SUMMARY:FC Internazionale Milano vs Juventus FC
DESCRIPTION:WhenKickoff reminder for FC Internazionale Milano vs Juventus FC
URL:https://whenkickoff.com/en/match/fc-internazionale-milano-vs-juventus-fc-537058/
BEGIN:VALARM
TRIGGER:-PT15M
ACTION:DISPLAY
DESCRIPTION:Match starts soon
END:VALARM
END:VEVENT
END:VCALENDAR
