BEGIN:VCALENDAR
VERSION:2.0
PRODID:-//WhenKickoff//Match Reminder//EN
BEGIN:VEVENT
UID:wk-537056-15@whenkickoff.com
DTSTAMP:20260420T033734Z
DTSTART:20260214T140000Z
DTEND:20260214T160000Z
SUMMARY:Como 1907 vs ACF Fiorentina
DESCRIPTION:WhenKickoff reminder for Como 1907 vs ACF Fiorentina
URL:https://whenkickoff.com/en/match/como-1907-vs-acf-fiorentina-537056/
BEGIN:VALARM
TRIGGER:-PT15M
ACTION:DISPLAY
DESCRIPTION:Match starts soon
END:VALARM
END:VEVENT
END:VCALENDAR
