BEGIN:VCALENDAR
VERSION:2.0
PRODID:-//WhenKickoff//Match Reminder//EN
BEGIN:VEVENT
UID:wk-537055-15@whenkickoff.com
DTSTAMP:20260420T015322Z
DTSTART:20260216T194500Z
DTEND:20260216T214500Z
SUMMARY:Cagliari Calcio vs US Lecce
DESCRIPTION:WhenKickoff reminder for Cagliari Calcio vs US Lecce
URL:https://whenkickoff.com/en/match/cagliari-calcio-vs-us-lecce-537055/
BEGIN:VALARM
TRIGGER:-PT15M
ACTION:DISPLAY
DESCRIPTION:Match starts soon
END:VALARM
END:VEVENT
END:VCALENDAR
