BEGIN:VCALENDAR
VERSION:2.0
PRODID:-//WhenKickoff//Match Reminder//EN
BEGIN:VEVENT
UID:wk-537054-15@whenkickoff.com
DTSTAMP:20260420T131050Z
DTSTART:20260208T140000Z
DTEND:20260208T160000Z
SUMMARY:US Lecce vs Udinese Calcio
DESCRIPTION:WhenKickoff reminder for US Lecce vs Udinese Calcio
URL:https://whenkickoff.com/en/match/us-lecce-vs-udinese-calcio-537054/
BEGIN:VALARM
TRIGGER:-PT15M
ACTION:DISPLAY
DESCRIPTION:Match starts soon
END:VALARM
END:VEVENT
END:VCALENDAR
