BEGIN:VCALENDAR
VERSION:2.0
PRODID:-//WhenKickoff//Match Reminder//EN
BEGIN:VEVENT
UID:wk-537053-15@whenkickoff.com
DTSTAMP:20260420T124625Z
DTSTART:20260208T170000Z
DTEND:20260208T190000Z
SUMMARY:US Sassuolo Calcio vs FC Internazionale Milano
DESCRIPTION:WhenKickoff reminder for US Sassuolo Calcio vs FC Internazionale Milano
URL:https://whenkickoff.com/en/match/us-sassuolo-calcio-vs-fc-internazionale-milano-537053/
BEGIN:VALARM
TRIGGER:-PT15M
ACTION:DISPLAY
DESCRIPTION:Match starts soon
END:VALARM
END:VEVENT
END:VCALENDAR
