BEGIN:VCALENDAR
VERSION:2.0
PRODID:-//WhenKickoff//Match Reminder//EN
BEGIN:VEVENT
UID:wk-537052-15@whenkickoff.com
DTSTAMP:20260420T124625Z
DTSTART:20260208T194500Z
DTEND:20260208T214500Z
SUMMARY:Juventus FC vs SS Lazio
DESCRIPTION:WhenKickoff reminder for Juventus FC vs SS Lazio
URL:https://whenkickoff.com/en/match/juventus-fc-vs-ss-lazio-537052/
BEGIN:VALARM
TRIGGER:-PT15M
ACTION:DISPLAY
DESCRIPTION:Match starts soon
END:VALARM
END:VEVENT
END:VCALENDAR
