BEGIN:VCALENDAR
VERSION:2.0
PRODID:-//WhenKickoff//Match Reminder//EN
BEGIN:VEVENT
UID:wk-537051-15@whenkickoff.com
DTSTAMP:20260420T124730Z
DTSTART:20260206T194500Z
DTEND:20260206T214500Z
SUMMARY:Hellas Verona FC vs AC Pisa 1909
DESCRIPTION:WhenKickoff reminder for Hellas Verona FC vs AC Pisa 1909
URL:https://whenkickoff.com/en/match/hellas-verona-fc-vs-ac-pisa-1909-537051/
BEGIN:VALARM
TRIGGER:-PT15M
ACTION:DISPLAY
DESCRIPTION:Match starts soon
END:VALARM
END:VEVENT
END:VCALENDAR
