BEGIN:VCALENDAR
VERSION:2.0
PRODID:-//WhenKickoff//Match Reminder//EN
BEGIN:VEVENT
UID:wk-537050-15@whenkickoff.com
DTSTAMP:20260420T124625Z
DTSTART:20260208T113000Z
DTEND:20260208T133000Z
SUMMARY:Bologna FC 1909 vs Parma Calcio 1913
DESCRIPTION:WhenKickoff reminder for Bologna FC 1909 vs Parma Calcio 1913
URL:https://whenkickoff.com/en/match/bologna-fc-1909-vs-parma-calcio-1913-537050/
BEGIN:VALARM
TRIGGER:-PT15M
ACTION:DISPLAY
DESCRIPTION:Match starts soon
END:VALARM
END:VEVENT
END:VCALENDAR
