BEGIN:VCALENDAR
VERSION:2.0
PRODID:-//WhenKickoff//Match Reminder//EN
BEGIN:VEVENT
UID:wk-537048-15@whenkickoff.com
DTSTAMP:20260420T110642Z
DTSTART:20260209T173000Z
DTEND:20260209T193000Z
SUMMARY:Atalanta BC vs US Cremonese
DESCRIPTION:WhenKickoff reminder for Atalanta BC vs US Cremonese
URL:https://whenkickoff.com/en/match/atalanta-bc-vs-us-cremonese-537048/
BEGIN:VALARM
TRIGGER:-PT15M
ACTION:DISPLAY
DESCRIPTION:Match starts soon
END:VALARM
END:VEVENT
END:VCALENDAR
