BEGIN:VCALENDAR
VERSION:2.0
PRODID:-//WhenKickoff//Match Reminder//EN
BEGIN:VEVENT
UID:wk-537046-15@whenkickoff.com
DTSTAMP:20260420T000815Z
DTSTART:20260218T194500Z
DTEND:20260218T214500Z
SUMMARY:AC Milan vs Como 1907
DESCRIPTION:WhenKickoff reminder for AC Milan vs Como 1907
URL:https://whenkickoff.com/en/match/ac-milan-vs-como-1907-537046/
BEGIN:VALARM
TRIGGER:-PT15M
ACTION:DISPLAY
DESCRIPTION:Match starts soon
END:VALARM
END:VEVENT
END:VCALENDAR
