BEGIN:VCALENDAR
VERSION:2.0
PRODID:-//WhenKickoff//Match Reminder//EN
BEGIN:VEVENT
UID:wk-537045-15@whenkickoff.com
DTSTAMP:20260420T124540Z
DTSTART:20260207T194500Z
DTEND:20260207T214500Z
SUMMARY:ACF Fiorentina vs Torino FC
DESCRIPTION:WhenKickoff reminder for ACF Fiorentina vs Torino FC
URL:https://whenkickoff.com/en/match/acf-fiorentina-vs-torino-fc-537045/
BEGIN:VALARM
TRIGGER:-PT15M
ACTION:DISPLAY
DESCRIPTION:Match starts soon
END:VALARM
END:VEVENT
END:VCALENDAR
