BEGIN:VCALENDAR
VERSION:2.0
PRODID:-//WhenKickoff//Match Reminder//EN
BEGIN:VEVENT
UID:wk-537043-15@whenkickoff.com
DTSTAMP:20260420T164724Z
DTSTART:20260202T194500Z
DTEND:20260202T214500Z
SUMMARY:Udinese Calcio vs AS Roma
DESCRIPTION:WhenKickoff reminder for Udinese Calcio vs AS Roma
URL:https://whenkickoff.com/en/match/udinese-calcio-vs-as-roma-537043/
BEGIN:VALARM
TRIGGER:-PT15M
ACTION:DISPLAY
DESCRIPTION:Match starts soon
END:VALARM
END:VEVENT
END:VCALENDAR
