BEGIN:VCALENDAR
VERSION:2.0
PRODID:-//WhenKickoff//Match Reminder//EN
BEGIN:VEVENT
UID:wk-537042-15@whenkickoff.com
DTSTAMP:20260420T164724Z
DTSTART:20260131T170000Z
DTEND:20260131T190000Z
SUMMARY:SSC Napoli vs ACF Fiorentina
DESCRIPTION:WhenKickoff reminder for SSC Napoli vs ACF Fiorentina
URL:https://whenkickoff.com/en/match/ssc-napoli-vs-acf-fiorentina-537042/
BEGIN:VALARM
TRIGGER:-PT15M
ACTION:DISPLAY
DESCRIPTION:Match starts soon
END:VALARM
END:VEVENT
END:VCALENDAR
