BEGIN:VCALENDAR
VERSION:2.0
PRODID:-//WhenKickoff//Match Reminder//EN
BEGIN:VEVENT
UID:wk-537041-15@whenkickoff.com
DTSTAMP:20260420T164626Z
DTSTART:20260131T140000Z
DTEND:20260131T160000Z
SUMMARY:AC Pisa 1909 vs US Sassuolo Calcio
DESCRIPTION:WhenKickoff reminder for AC Pisa 1909 vs US Sassuolo Calcio
URL:https://whenkickoff.com/en/match/ac-pisa-1909-vs-us-sassuolo-calcio-537041/
BEGIN:VALARM
TRIGGER:-PT15M
ACTION:DISPLAY
DESCRIPTION:Match starts soon
END:VALARM
END:VEVENT
END:VCALENDAR
