BEGIN:VCALENDAR
VERSION:2.0
PRODID:-//WhenKickoff//Match Reminder//EN
BEGIN:VEVENT
UID:wk-537040-15@whenkickoff.com
DTSTAMP:20260420T164625Z
DTSTART:20260201T194500Z
DTEND:20260201T214500Z
SUMMARY:Parma Calcio 1913 vs Juventus FC
DESCRIPTION:WhenKickoff reminder for Parma Calcio 1913 vs Juventus FC
URL:https://whenkickoff.com/en/match/parma-calcio-1913-vs-juventus-fc-537040/
BEGIN:VALARM
TRIGGER:-PT15M
ACTION:DISPLAY
DESCRIPTION:Match starts soon
END:VALARM
END:VEVENT
END:VCALENDAR
